BEGIN:VCALENDAR
VERSION:2.0
PRODID:-//Al Murtaza Centre - ECPv6.2.8.1//NONSGML v1.0//EN
CALSCALE:GREGORIAN
METHOD:PUBLISH
X-WR-CALNAME:Al Murtaza Centre
X-ORIGINAL-URL:https://almurtaza.org.nz
X-WR-CALDESC:Events for Al Murtaza Centre
REFRESH-INTERVAL;VALUE=DURATION:PT1H
X-Robots-Tag:noindex
X-PUBLISHED-TTL:PT1H
BEGIN:VTIMEZONE
TZID:Pacific/Auckland
BEGIN:STANDARD
TZOFFSETFROM:+1300
TZOFFSETTO:+1200
TZNAME:NZST
DTSTART:20250405T140000
END:STANDARD
BEGIN:DAYLIGHT
TZOFFSETFROM:+1200
TZOFFSETTO:+1300
TZNAME:NZDT
DTSTART:20250927T140000
END:DAYLIGHT
END:VTIMEZONE
BEGIN:VEVENT
DTSTART;TZID=Pacific/Auckland:20250823T140000
DTEND;TZID=Pacific/Auckland:20250823T163000
DTSTAMP:20260420T200017
CREATED:20250725T031321Z
LAST-MODIFIED:20250725T031321Z
UID:1780-1755957600-1755966600@almurtaza.org.nz
SUMMARY:Annual Ladies Majlis-e-Aza 1447H
DESCRIPTION:
URL:https://almurtaza.org.nz/event/annual-ladies-majlis-e-aza-1447h/
LOCATION:North shore Ahlulbayt Center
END:VEVENT
BEGIN:VEVENT
DTSTART;TZID=Pacific/Auckland:20250813T180000
DTEND;TZID=Pacific/Auckland:20250817T210000
DTSTAMP:20260420T200017
CREATED:20250724T224300Z
LAST-MODIFIED:20250724T230541Z
UID:1742-1755108000-1755464400@almurtaza.org.nz
SUMMARY:Khamsa Majalis Arbaeen 1447
DESCRIPTION:Khamsa Majalis Arbaeen 1447\, Visiting Scholar Syed Hassan Mujtaba Rizvi (from Canada)
URL:https://almurtaza.org.nz/event/khamsa-majalis-arbaeen-1447/
LOCATION:North shore Ahlulbayt Center
CATEGORIES:Majlis
END:VEVENT
BEGIN:VEVENT
DTSTART;TZID=Pacific/Auckland:20250812T180000
DTEND;TZID=Pacific/Auckland:20250812T210000
DTSTAMP:20260420T200017
CREATED:20250809T210004Z
LAST-MODIFIED:20250724T232354Z
UID:1745-1755021600-1755032400@almurtaza.org.nz
SUMMARY:Youth Event - 4th Night
DESCRIPTION:
URL:https://almurtaza.org.nz/event/youth-event-2/
LOCATION:North shore Ahlulbayt Center
CATEGORIES:Youth
END:VEVENT
BEGIN:VEVENT
DTSTART;TZID=Pacific/Auckland:20250812T180000
DTEND;TZID=Pacific/Auckland:20250812T210000
DTSTAMP:20260420T200017
CREATED:20250725T000843Z
LAST-MODIFIED:20250725T001026Z
UID:1768-1755021600-1755032400@almurtaza.org.nz
SUMMARY:Youth event - 4th Night
DESCRIPTION:
URL:https://almurtaza.org.nz/event/youth-event-4th-night/
LOCATION:North shore Ahlulbayt Center
CATEGORIES:Youth
END:VEVENT
BEGIN:VEVENT
DTSTART;TZID=Pacific/Auckland:20250811T180000
DTEND;TZID=Pacific/Auckland:20250811T210000
DTSTAMP:20260420T200017
CREATED:20250808T210005Z
LAST-MODIFIED:20250724T231450Z
UID:1746-1754935200-1754946000@almurtaza.org.nz
SUMMARY:Youth Event - 3rd Night
DESCRIPTION:
URL:https://almurtaza.org.nz/event/youth-event-3/
LOCATION:North shore Ahlulbayt Center
CATEGORIES:Youth
END:VEVENT
BEGIN:VEVENT
DTSTART;TZID=Pacific/Auckland:20250811T180000
DTEND;TZID=Pacific/Auckland:20250811T210000
DTSTAMP:20260420T200017
CREATED:20250724T232906Z
LAST-MODIFIED:20250725T001127Z
UID:1766-1754935200-1754946000@almurtaza.org.nz
SUMMARY:Youth event - 3rd Night
DESCRIPTION:
URL:https://almurtaza.org.nz/event/youth-event-3rd-night/
LOCATION:North shore Ahlulbayt Center
CATEGORIES:Youth
END:VEVENT
BEGIN:VEVENT
DTSTART;TZID=Pacific/Auckland:20250810T090000
DTEND;TZID=Pacific/Auckland:20250810T160000
DTSTAMP:20260420T200017
CREATED:20250811T060004Z
LAST-MODIFIED:20250724T231515Z
UID:1744-1754816400-1754841600@almurtaza.org.nz
SUMMARY:Youth Event - Day 2
DESCRIPTION:
URL:https://almurtaza.org.nz/event/youth-event/
CATEGORIES:Youth
END:VEVENT
BEGIN:VEVENT
DTSTART;TZID=Pacific/Auckland:20250810T080000
DTEND;TZID=Pacific/Auckland:20250810T170000
DTSTAMP:20260420T200017
CREATED:20250724T232801Z
LAST-MODIFIED:20250724T232801Z
UID:1764-1754812800-1754845200@almurtaza.org.nz
SUMMARY:Youth event - Day 2
DESCRIPTION:
URL:https://almurtaza.org.nz/event/youth-event-day-2/
CATEGORIES:Youth
END:VEVENT
BEGIN:VEVENT
DTSTART;TZID=Pacific/Auckland:20250809T090000
DTEND;TZID=Pacific/Auckland:20250809T160000
DTSTAMP:20260420T200017
CREATED:20250812T040005Z
LAST-MODIFIED:20250724T231539Z
UID:1747-1754730000-1754755200@almurtaza.org.nz
SUMMARY:Youth Event - Day 1
DESCRIPTION:
URL:https://almurtaza.org.nz/event/youth-event-4/
CATEGORIES:Youth
END:VEVENT
BEGIN:VEVENT
DTSTART;TZID=Pacific/Auckland:20250809T080000
DTEND;TZID=Pacific/Auckland:20250809T170000
DTSTAMP:20260420T200017
CREATED:20250724T232629Z
LAST-MODIFIED:20250724T232629Z
UID:1762-1754726400-1754758800@almurtaza.org.nz
SUMMARY:Youth event - Day 1
DESCRIPTION:
URL:https://almurtaza.org.nz/event/youth-event-day-1/
CATEGORIES:Youth
END:VEVENT
BEGIN:VEVENT
DTSTART;TZID=Pacific/Auckland:20250808T180000
DTEND;TZID=Pacific/Auckland:20250808T210000
DTSTAMP:20260420T200017
CREATED:20250724T224300Z
LAST-MODIFIED:20250725T002933Z
UID:1741-1754676000-1754686800@almurtaza.org.nz
SUMMARY:Majalis Shahadat Hazrat Ruqayya binte Hussain (as)
DESCRIPTION:Majalis Shahadat Ruqayya binte Hussain (as) \nSpeaker: Visiting Scholar Syed Hassan Mujtaba Rizvi (from Canada)
URL:https://almurtaza.org.nz/event/majalis-shahadat-hazrat-ruqayya-binte-hussain-as/
LOCATION:North shore Ahlulbayt Center
CATEGORIES:Majlis
END:VEVENT
BEGIN:VEVENT
DTSTART;TZID=Pacific/Auckland:20250720T180000
DTEND;TZID=Pacific/Auckland:20250720T210000
DTSTAMP:20260420T200017
CREATED:20250713T210935Z
LAST-MODIFIED:20250717T043511Z
UID:1728-1753034400-1753045200@almurtaza.org.nz
SUMMARY:Majlis e Shahadat Imam  Zain ul Abedein AS 🏴 1447 | 2025
DESCRIPTION:Date: 20th July\, Sunday\nTime: 6:00pm (Starting with Maghrebain) \nVenue: North shore Ahlulbayt Center \nPlease bring a dish to share niaz 🥘 \nجزاکم اللہ خیرا \nAl Murtaza Center
URL:https://almurtaza.org.nz/event/test/
LOCATION:North shore Ahlulbayt Center
CATEGORIES:Majlis
END:VEVENT
END:VCALENDAR